BEGIN:VCALENDAR
VERSION:2.0
PRODID:-//Maryland Gold Star Mothers - ECPv6.15.17//NONSGML v1.0//EN
CALSCALE:GREGORIAN
METHOD:PUBLISH
X-WR-CALNAME:Maryland Gold Star Mothers
X-ORIGINAL-URL:https://marylandgoldstarmoms.com
X-WR-CALDESC:Events for Maryland Gold Star Mothers
REFRESH-INTERVAL;VALUE=DURATION:PT1H
X-Robots-Tag:noindex
X-PUBLISHED-TTL:PT1H
BEGIN:VTIMEZONE
TZID:America/New_York
BEGIN:DAYLIGHT
TZOFFSETFROM:-0500
TZOFFSETTO:-0400
TZNAME:EDT
DTSTART:20250309T070000
END:DAYLIGHT
BEGIN:STANDARD
TZOFFSETFROM:-0400
TZOFFSETTO:-0500
TZNAME:EST
DTSTART:20251102T060000
END:STANDARD
BEGIN:DAYLIGHT
TZOFFSETFROM:-0500
TZOFFSETTO:-0400
TZNAME:EDT
DTSTART:20260308T070000
END:DAYLIGHT
BEGIN:STANDARD
TZOFFSETFROM:-0400
TZOFFSETTO:-0500
TZNAME:EST
DTSTART:20261101T060000
END:STANDARD
BEGIN:DAYLIGHT
TZOFFSETFROM:-0500
TZOFFSETTO:-0400
TZNAME:EDT
DTSTART:20270314T070000
END:DAYLIGHT
BEGIN:STANDARD
TZOFFSETFROM:-0400
TZOFFSETTO:-0500
TZNAME:EST
DTSTART:20271107T060000
END:STANDARD
END:VTIMEZONE
BEGIN:VEVENT
DTSTART;TZID=America/New_York:20260927T080000
DTEND;TZID=America/New_York:20260927T170000
DTSTAMP:20260420T224140
CREATED:20260420T202239Z
LAST-MODIFIED:20260420T213009Z
UID:7697-1790496000-1790528400@marylandgoldstarmoms.com
SUMMARY:Gold Star Families Memorial Monument Dedication - Thurmont\, MD
DESCRIPTION:A new Gold Star Families Memorial Monument (GSFMM) honoring the families of servicemen and women who sacrificed their lives while serving in the military is currently being planned in Thurmont\, Maryland. \n 
URL:https://marylandgoldstarmoms.com/event/gold-star-families-memorial-monument-dedication-thurmont-md/
LOCATION:Gold Star Memorial Monument Site\, 116 East Main Street\, Thurmont\, MD 21788\, MD\, 21788\, United States
END:VEVENT
END:VCALENDAR