BEGIN:VCALENDAR
VERSION:2.0
PRODID:-//Maryland Gold Star Mothers - ECPv6.15.17//NONSGML v1.0//EN
CALSCALE:GREGORIAN
METHOD:PUBLISH
X-WR-CALNAME:Maryland Gold Star Mothers
X-ORIGINAL-URL:https://marylandgoldstarmoms.com
X-WR-CALDESC:Events for Maryland Gold Star Mothers
REFRESH-INTERVAL;VALUE=DURATION:PT1H
X-Robots-Tag:noindex
X-PUBLISHED-TTL:PT1H
BEGIN:VTIMEZONE
TZID:America/New_York
BEGIN:DAYLIGHT
TZOFFSETFROM:-0500
TZOFFSETTO:-0400
TZNAME:EDT
DTSTART:20250309T070000
END:DAYLIGHT
BEGIN:STANDARD
TZOFFSETFROM:-0400
TZOFFSETTO:-0500
TZNAME:EST
DTSTART:20251102T060000
END:STANDARD
BEGIN:DAYLIGHT
TZOFFSETFROM:-0500
TZOFFSETTO:-0400
TZNAME:EDT
DTSTART:20260308T070000
END:DAYLIGHT
BEGIN:STANDARD
TZOFFSETFROM:-0400
TZOFFSETTO:-0500
TZNAME:EST
DTSTART:20261101T060000
END:STANDARD
BEGIN:DAYLIGHT
TZOFFSETFROM:-0500
TZOFFSETTO:-0400
TZNAME:EDT
DTSTART:20270314T070000
END:DAYLIGHT
BEGIN:STANDARD
TZOFFSETFROM:-0400
TZOFFSETTO:-0500
TZNAME:EST
DTSTART:20271107T060000
END:STANDARD
END:VTIMEZONE
BEGIN:VEVENT
DTSTART;VALUE=DATE:20260424
DTEND;VALUE=DATE:20260425
DTSTAMP:20260424T025032
CREATED:20260213T131826Z
LAST-MODIFIED:20260213T131826Z
UID:7585-1776988800-1777075199@marylandgoldstarmoms.com
SUMMARY:2026 T2T Charity Golf Event
DESCRIPTION:If you can attend this event\, please send a response to mdgsmevents@gmail.com with the name and date of the event in the subject line.
URL:https://marylandgoldstarmoms.com/event/2026-t2t-charity-golf-event/
LOCATION:Oakmont Green Golf Course\, 2290 Golf View Lane\, Hampstead\, Maryland\, 21074
END:VEVENT
END:VCALENDAR