BEGIN:VCALENDAR
VERSION:2.0
PRODID:-//Maryland Gold Star Mothers - ECPv6.15.17//NONSGML v1.0//EN
CALSCALE:GREGORIAN
METHOD:PUBLISH
X-WR-CALNAME:Maryland Gold Star Mothers
X-ORIGINAL-URL:https://marylandgoldstarmoms.com
X-WR-CALDESC:Events for Maryland Gold Star Mothers
REFRESH-INTERVAL;VALUE=DURATION:PT1H
X-Robots-Tag:noindex
X-PUBLISHED-TTL:PT1H
BEGIN:VTIMEZONE
TZID:America/New_York
BEGIN:DAYLIGHT
TZOFFSETFROM:-0500
TZOFFSETTO:-0400
TZNAME:EDT
DTSTART:20230312T070000
END:DAYLIGHT
BEGIN:STANDARD
TZOFFSETFROM:-0400
TZOFFSETTO:-0500
TZNAME:EST
DTSTART:20231105T060000
END:STANDARD
BEGIN:DAYLIGHT
TZOFFSETFROM:-0500
TZOFFSETTO:-0400
TZNAME:EDT
DTSTART:20240310T070000
END:DAYLIGHT
BEGIN:STANDARD
TZOFFSETFROM:-0400
TZOFFSETTO:-0500
TZNAME:EST
DTSTART:20241103T060000
END:STANDARD
BEGIN:DAYLIGHT
TZOFFSETFROM:-0500
TZOFFSETTO:-0400
TZNAME:EDT
DTSTART:20250309T070000
END:DAYLIGHT
BEGIN:STANDARD
TZOFFSETFROM:-0400
TZOFFSETTO:-0500
TZNAME:EST
DTSTART:20251102T060000
END:STANDARD
END:VTIMEZONE
BEGIN:VEVENT
DTSTART;TZID=America/New_York:20241019T110000
DTEND;TZID=America/New_York:20241019T150000
DTSTAMP:20260419T113943
CREATED:20241004T163749Z
LAST-MODIFIED:20241004T163749Z
UID:6222-1729335600-1729350000@marylandgoldstarmoms.com
SUMMARY:VFW Family Freedom Festival
DESCRIPTION:If you can assist with this event\, please send an email with the name of the event to mdgsmevents@gmail.com no later than October 14\, 2024.  They are supplying us with a table and two chairs\, so\, plan on bringing a chair!
URL:https://marylandgoldstarmoms.com/event/vfw-family-freedom-festival/
LOCATION:VFW Post 7472\, 4225 VFW Lane\, Ellicott City\, MD
END:VEVENT
BEGIN:VEVENT
DTSTART;TZID=America/New_York:20241019T163000
DTEND;TZID=America/New_York:20241019T223000
DTSTAMP:20260419T113943
CREATED:20241005T190916Z
LAST-MODIFIED:20241005T190916Z
UID:6242-1729355400-1729377000@marylandgoldstarmoms.com
SUMMARY:Truckin 4 Troops Fall Fest BBQ Fundraiser
DESCRIPTION:T4T BBQ FALLfest Flyer 2024.pdf \nIf you can assist in this event\, please send an email with the name of the event in the subject line to mdgsmevents@gmail.com no later than October 12\, 2024.
URL:https://marylandgoldstarmoms.com/event/truckin-4-troops-fall-fest-bbq-fundraiser/
LOCATION:Truckin 4 Troops\, 955 Generals Highway\, Crownsville\, Maryland
END:VEVENT
END:VCALENDAR